BEGIN:VCALENDAR
VERSION:2.0
PRODID:-//Sabre//Sabre VObject 4.5.8//EN
CALSCALE:GREGORIAN
BEGIN:VEVENT
UID:sabre-vobject-53b1fb23-04d4-4e58-81bc-4033448bbaf7
DTSTAMP:20260421T220824Z
SUMMARY:A Day Trip To USAG Humphreys
DESCRIPTION:Every Saturday!\n
X-ALT-DESC:FMTTYPE=text/html:<!DOCTYPE HTML PUBLIC "-//W3C//DTD HTML 3.2//E
 N"><HTML><p>Every Saturday!</p>\n</HTML>
CREATED;TZID=Asia/Seoul:20201130T094613
URL;VALUE=URI:https://casey.armymwr.com/calendar/event
DTSTART;TZID=Asia/Seoul:20200808T070000
DTEND;TZID=Asia/Seoul:20200808T183000
SEQUENCE:0
END:VEVENT
END:VCALENDAR
