BEGIN:VCALENDAR
VERSION:2.0
PRODID:-//Sabre//Sabre VObject 4.5.8//EN
CALSCALE:GREGORIAN
BEGIN:VEVENT
UID:sabre-vobject-bc46ae6d-cf0c-4eef-8c88-1e8ad2050f35
DTSTAMP:20260421T110447Z
SUMMARY:Casey Daily Recreation Challenge 'Domino Game'
DESCRIPTION:
X-ALT-DESC:FMTTYPE=text/html:<!DOCTYPE HTML PUBLIC "-//W3C//DTD HTML 3.2//E
 N"><HTML></HTML>
CREATED;TZID=Asia/Seoul:20201207T131649
URL;VALUE=URI:https://casey.armymwr.com/calendar/event
DTSTART;TZID=Asia/Seoul:20200812T183000
DTEND;TZID=Asia/Seoul:20200812T193000
SEQUENCE:0
END:VEVENT
END:VCALENDAR
