BEGIN:VCALENDAR
VERSION:2.0
PRODID:-//Sabre//Sabre VObject 4.5.8//EN
CALSCALE:GREGORIAN
BEGIN:VEVENT
UID:sabre-vobject-85291f94-820e-4ec2-ba4e-c7e40ef235c2
DTSTAMP:20260421T010707Z
SUMMARY:Gridiron Challenge VI
DESCRIPTION:
X-ALT-DESC:FMTTYPE=text/html:<!DOCTYPE HTML PUBLIC "-//W3C//DTD HTML 3.2//E
 N"><HTML></HTML>
CREATED;TZID=Asia/Seoul:20210105T151223
URL;VALUE=URI:https://casey.armymwr.com/calendar/event
DTSTART;TZID=Asia/Seoul:20201007T170000
DTEND;TZID=Asia/Seoul:20201007T180000
SEQUENCE:0
END:VEVENT
END:VCALENDAR
