BEGIN:VCALENDAR
VERSION:2.0
PRODID:-//Sabre//Sabre VObject 4.5.8//EN
CALSCALE:GREGORIAN
BEGIN:VEVENT
UID:sabre-vobject-993d965f-d512-4891-8ca3-48341f51fde8
DTSTAMP:20260425T025733Z
SUMMARY:2020 End of season Golf Tournament
DESCRIPTION:2 person Scramble\,&nbsp\;18 Holes\n
X-ALT-DESC:FMTTYPE=text/html:<!DOCTYPE HTML PUBLIC "-//W3C//DTD HTML 3.2//E
 N"><HTML><p>2 person Scramble\,&nbsp\;18 Holes</p>\n</HTML>
CREATED;TZID=Asia/Seoul:20201007T103517
URL;VALUE=URI:https://casey.armymwr.com/calendar/event
DTSTART;TZID=Asia/Seoul:20201024T090000
DTEND;TZID=Asia/Seoul:20201024T100000
SEQUENCE:0
END:VEVENT
END:VCALENDAR
