BEGIN:VCALENDAR
VERSION:2.0
PRODID:-//Sabre//Sabre VObject 4.5.8//EN
CALSCALE:GREGORIAN
BEGIN:VEVENT
UID:sabre-vobject-a606159d-4cdb-4d3a-9b3f-31436b753a07
DTSTAMP:20260425T025732Z
SUMMARY:'SUPER CR3W & JABBAWOCKEEZ' Live Stream Show by Armed Forces Entert
 ainment
DESCRIPTION:
X-ALT-DESC:FMTTYPE=text/html:<!DOCTYPE HTML PUBLIC "-//W3C//DTD HTML 3.2//E
 N"><HTML></HTML>
CREATED;TZID=Asia/Seoul:20201015T103745
URL;VALUE=URI:https://casey.armymwr.com/calendar/event
DTSTART;TZID=Asia/Seoul:20201023T110000
DTEND;TZID=Asia/Seoul:20201023T120000
SEQUENCE:0
END:VEVENT
END:VCALENDAR
