BEGIN:VCALENDAR
VERSION:2.0
PRODID:-//Sabre//Sabre VObject 4.5.8//EN
CALSCALE:GREGORIAN
BEGIN:VEVENT
UID:sabre-vobject-92175d04-b7c1-496c-8138-4e68b6a31f78
DTSTAMP:20260422T093436Z
SUMMARY:Military Virtual Programming 'USO Holidays'
DESCRIPTION:
X-ALT-DESC:FMTTYPE=text/html:<!DOCTYPE HTML PUBLIC "-//W3C//DTD HTML 3.2//E
 N"><HTML></HTML>
CREATED;TZID=Asia/Seoul:20201124T141634
URL;VALUE=URI:https://casey.armymwr.com/calendar/event
DTSTART;TZID=Asia/Seoul:20201202T133000
DTEND;TZID=Asia/Seoul:20201202T143000
SEQUENCE:0
END:VEVENT
BEGIN:VEVENT
UID:sabre-vobject-2165e96b-8d24-41c0-8ca0-d4747d4fe6b2
DTSTAMP:20260422T093436Z
SUMMARY:Military Virtual Programming 'USO Holidays'
DESCRIPTION:
X-ALT-DESC:FMTTYPE=text/html:<!DOCTYPE HTML PUBLIC "-//W3C//DTD HTML 3.2//E
 N"><HTML></HTML>
CREATED;TZID=Asia/Seoul:20201124T141634
URL;VALUE=URI:https://casey.armymwr.com/calendar/event
DTSTART;TZID=Asia/Seoul:20201203T130000
DTEND;TZID=Asia/Seoul:20201203T140000
SEQUENCE:1
END:VEVENT
BEGIN:VEVENT
UID:sabre-vobject-f8915d34-80f2-4c4f-a8d7-40692f2ccc37
DTSTAMP:20260422T093436Z
SUMMARY:Military Virtual Programming 'USO Holidays'
DESCRIPTION:
X-ALT-DESC:FMTTYPE=text/html:<!DOCTYPE HTML PUBLIC "-//W3C//DTD HTML 3.2//E
 N"><HTML></HTML>
CREATED;TZID=Asia/Seoul:20201124T141634
URL;VALUE=URI:https://casey.armymwr.com/calendar/event
DTSTART;TZID=Asia/Seoul:20201204T140000
DTEND;TZID=Asia/Seoul:20201204T150000
SEQUENCE:2
END:VEVENT
BEGIN:VEVENT
UID:sabre-vobject-cd733476-af98-4f60-a6f2-c557873e27c2
DTSTAMP:20260422T093436Z
SUMMARY:Military Virtual Programming 'USO Holidays'
DESCRIPTION:
X-ALT-DESC:FMTTYPE=text/html:<!DOCTYPE HTML PUBLIC "-//W3C//DTD HTML 3.2//E
 N"><HTML></HTML>
CREATED;TZID=Asia/Seoul:20201124T141634
URL;VALUE=URI:https://casey.armymwr.com/calendar/event
DTSTART;TZID=Asia/Seoul:20201205T130000
DTEND;TZID=Asia/Seoul:20201205T140000
SEQUENCE:3
END:VEVENT
BEGIN:VEVENT
UID:sabre-vobject-d73d2d2b-1453-4480-a4d4-3de97f5d3b04
DTSTAMP:20260422T093436Z
SUMMARY:Military Virtual Programming 'USO Holidays'
DESCRIPTION:
X-ALT-DESC:FMTTYPE=text/html:<!DOCTYPE HTML PUBLIC "-//W3C//DTD HTML 3.2//E
 N"><HTML></HTML>
CREATED;TZID=Asia/Seoul:20201124T141634
URL;VALUE=URI:https://casey.armymwr.com/calendar/event
DTSTART;TZID=Asia/Seoul:20201211T200000
DTEND;TZID=Asia/Seoul:20201211T210000
SEQUENCE:4
END:VEVENT
END:VCALENDAR
