BEGIN:VCALENDAR
VERSION:2.0
PRODID:-//Sabre//Sabre VObject 4.5.8//EN
CALSCALE:GREGORIAN
BEGIN:VEVENT
UID:sabre-vobject-b54d827a-b5ab-4214-b5db-01c571f27a1c
DTSTAMP:20260420T182851Z
SUMMARY:2021 VOLLEYBALL LEAGUE (UNIT LEVEL)
DESCRIPTION:
X-ALT-DESC:FMTTYPE=text/html:<!DOCTYPE HTML PUBLIC "-//W3C//DTD HTML 3.2//E
 N"><HTML></HTML>
CREATED;TZID=Asia/Seoul:20210302T163638
URL;VALUE=URI:https://casey.armymwr.com/calendar/event
DTSTART;TZID=Asia/Seoul:20210308T163000
DTEND;TZID=Asia/Seoul:20210423T180000
SEQUENCE:0
END:VEVENT
END:VCALENDAR
