BEGIN:VCALENDAR
VERSION:2.0
PRODID:-//Sabre//Sabre VObject 4.5.8//EN
CALSCALE:GREGORIAN
BEGIN:VEVENT
UID:sabre-vobject-54004e93-217a-4d93-9210-2fcb8977ce3f
DTSTAMP:20260421T060526Z
SUMMARY:2021 Martin L. King Jr. Birthday Basketball Tournament
DESCRIPTION:
X-ALT-DESC:FMTTYPE=text/html:<!DOCTYPE HTML PUBLIC "-//W3C//DTD HTML 3.2//E
 N"><HTML></HTML>
CREATED;TZID=Asia/Seoul:20210106T091912
URL;VALUE=URI:https://casey.armymwr.com/calendar/event
DTSTART;TZID=Asia/Seoul:20210115T123000
DTEND;TZID=Asia/Seoul:20210118T133000
SEQUENCE:0
END:VEVENT
END:VCALENDAR
