BEGIN:VCALENDAR
VERSION:2.0
PRODID:-//Sabre//Sabre VObject 4.5.8//EN
CALSCALE:GREGORIAN
BEGIN:VEVENT
UID:sabre-vobject-06403848-d1da-4897-b625-1c9f9ab3c4bc
DTSTAMP:20260421T043405Z
SUMMARY:Book Club (Casey Library)
DESCRIPTION:
X-ALT-DESC:FMTTYPE=text/html:<!DOCTYPE HTML PUBLIC "-//W3C//DTD HTML 3.2//E
 N"><HTML></HTML>
CREATED;TZID=Asia/Seoul:20210107T143606
URL;VALUE=URI:https://casey.armymwr.com/calendar/event
DTSTART;TZID=Asia/Seoul:20210114T173000
DTEND;TZID=Asia/Seoul:20210114T183000
SEQUENCE:0
END:VEVENT
END:VCALENDAR
