BEGIN:VCALENDAR
VERSION:2.0
PRODID:-//Sabre//Sabre VObject 4.5.8//EN
CALSCALE:GREGORIAN
BEGIN:VEVENT
UID:sabre-vobject-064cf093-aba9-48be-b0e6-0687b3606fdd
DTSTAMP:20260421T110418Z
SUMMARY:Golden Ball Bucket
DESCRIPTION:
X-ALT-DESC:FMTTYPE=text/html:<!DOCTYPE HTML PUBLIC "-//W3C//DTD HTML 3.2//E
 N"><HTML></HTML>
CREATED;TZID=Asia/Seoul:20210105T162029
URL;VALUE=URI:https://casey.armymwr.com/calendar/event
DTSTART;TZID=Asia/Seoul:20210105T000000
DTEND;TZID=Asia/Seoul:20210131T235959
SEQUENCE:0
END:VEVENT
END:VCALENDAR
