BEGIN:VCALENDAR
VERSION:2.0
PRODID:-//Sabre//Sabre VObject 4.5.8//EN
CALSCALE:GREGORIAN
BEGIN:VEVENT
UID:sabre-vobject-48ab9bc8-1e92-4343-9318-e985dbbe21c3
DTSTAMP:20260421T013136Z
SUMMARY:Taste Of The Outdoors With Pitmaster Moe Cason
DESCRIPTION:
X-ALT-DESC:FMTTYPE=text/html:<!DOCTYPE HTML PUBLIC "-//W3C//DTD HTML 3.2//E
 N"><HTML></HTML>
CREATED;TZID=Asia/Seoul:20210106T132242
URL;VALUE=URI:https://casey.armymwr.com/calendar/event
DTSTART;TZID=Asia/Seoul:20210118T130000
DTEND;TZID=Asia/Seoul:20210122T140000
SEQUENCE:0
END:VEVENT
END:VCALENDAR
