BEGIN:VCALENDAR
VERSION:2.0
PRODID:-//Sabre//Sabre VObject 4.5.8//EN
CALSCALE:GREGORIAN
BEGIN:VEVENT
UID:sabre-vobject-1c118f9a-80a2-4c9f-acf9-a7e063341790
DTSTAMP:20260421T092139Z
SUMMARY:Holiday Dinner Special TO GO
DESCRIPTION:
X-ALT-DESC:FMTTYPE=text/html:<!DOCTYPE HTML PUBLIC "-//W3C//DTD HTML 3.2//E
 N"><HTML></HTML>
CREATED;TZID=Asia/Seoul:20210106T141349
URL;VALUE=URI:https://casey.armymwr.com/calendar/event
DTSTART;TZID=Asia/Seoul:20210106T100000
DTEND;TZID=Asia/Seoul:20210115T110000
SEQUENCE:0
END:VEVENT
END:VCALENDAR
