BEGIN:VCALENDAR
VERSION:2.0
PRODID:-//Sabre//Sabre VObject 4.5.8//EN
CALSCALE:GREGORIAN
BEGIN:VEVENT
UID:sabre-vobject-0c15afa9-337d-46d3-ad7f-26ae8192e9b5
DTSTAMP:20260421T124355Z
SUMMARY:9 Pin No Tap Bowling Tournament
DESCRIPTION:
X-ALT-DESC:FMTTYPE=text/html:<!DOCTYPE HTML PUBLIC "-//W3C//DTD HTML 3.2//E
 N"><HTML></HTML>
CREATED;TZID=Asia/Seoul:20210107T155038
URL;VALUE=URI:https://casey.armymwr.com/calendar/event
DTSTART;TZID=Asia/Seoul:20210109T130000
DTEND;TZID=Asia/Seoul:20210109T170000
SEQUENCE:0
END:VEVENT
END:VCALENDAR
