BEGIN:VCALENDAR
VERSION:2.0
PRODID:-//Sabre//Sabre VObject 4.5.8//EN
CALSCALE:GREGORIAN
BEGIN:VEVENT
UID:sabre-vobject-e3341953-674f-4143-8b58-1c57b26e4e12
DTSTAMP:20260420T121054Z
SUMMARY:2021 Soldiers' Poetry Contest
DESCRIPTION:
X-ALT-DESC:FMTTYPE=text/html:<!DOCTYPE HTML PUBLIC "-//W3C//DTD HTML 3.2//E
 N"><HTML></HTML>
CREATED;TZID=Asia/Seoul:20210324T135159
URL;VALUE=URI:https://casey.armymwr.com/calendar/event
DTSTART;TZID=Asia/Seoul:20210301T000000
DTEND;TZID=Asia/Seoul:20210331T235959
SEQUENCE:0
END:VEVENT
END:VCALENDAR
