BEGIN:VCALENDAR
VERSION:2.0
PRODID:-//Sabre//Sabre VObject 4.5.8//EN
CALSCALE:GREGORIAN
BEGIN:VEVENT
UID:sabre-vobject-12557ace-5c02-45fa-afee-70a8d6cc1656
DTSTAMP:20260421T031300Z
SUMMARY:Holiday Tree Lighting Celebration
DESCRIPTION:Come celebrate the holidays with friends and family at Camp Cas
 ey Holiday Tree Lighting Celebration! &nbsp\;\n
X-ALT-DESC:FMTTYPE=text/html:<!DOCTYPE HTML PUBLIC "-//W3C//DTD HTML 3.2//E
 N"><HTML><p>Come celebrate the holidays with friends and family at Camp Ca
 sey Holiday Tree Lighting Celebration! &nbsp\;</p>\n</HTML>
CREATED;TZID=Asia/Seoul:20251104T161410
URL;VALUE=URI:https://casey.armymwr.com/calendar/event
DTSTART;TZID=Asia/Seoul:20251205T180000
DTEND;TZID=Asia/Seoul:20251205T190000
SEQUENCE:0
END:VEVENT
END:VCALENDAR
