BEGIN:VCALENDAR
VERSION:2.0
PRODID:-//Sabre//Sabre VObject 4.5.8//EN
CALSCALE:GREGORIAN
BEGIN:VEVENT
UID:sabre-vobject-ae85f533-fd33-4f49-ad69-0b2ed4268ea6
DTSTAMP:20260420T152056Z
SUMMARY:Jingle Bell 5K Run
DESCRIPTION:
X-ALT-DESC:FMTTYPE=text/html:<!DOCTYPE HTML PUBLIC "-//W3C//DTD HTML 3.2//E
 N"><HTML></HTML>
CREATED;TZID=Asia/Seoul:20251105T132604
URL;VALUE=URI:https://casey.armymwr.com/calendar/event
DTSTART;TZID=Asia/Seoul:20251213T100000
DTEND;TZID=Asia/Seoul:20251213T110000
SEQUENCE:0
END:VEVENT
END:VCALENDAR
