BEGIN:VCALENDAR
VERSION:2.0
PRODID:-//Sabre//Sabre VObject 4.5.8//EN
CALSCALE:GREGORIAN
BEGIN:VEVENT
UID:sabre-vobject-f2a72ce6-30af-438c-8178-c84a80738a38
DTSTAMP:20260420T121339Z
SUMMARY:Ski & Snowboarding
DESCRIPTION:
X-ALT-DESC:FMTTYPE=text/html:<!DOCTYPE HTML PUBLIC "-//W3C//DTD HTML 3.2//E
 N"><HTML></HTML>
CREATED;TZID=Asia/Seoul:20251204T160332
URL;VALUE=URI:https://casey.armymwr.com/calendar/event
DTSTART;TZID=Asia/Seoul:20260110T070000
DTEND;TZID=Asia/Seoul:20260110T190000
SEQUENCE:0
END:VEVENT
END:VCALENDAR
