BEGIN:VCALENDAR
VERSION:2.0
PRODID:-//Sabre//Sabre VObject 4.5.8//EN
CALSCALE:GREGORIAN
BEGIN:VEVENT
UID:sabre-vobject-aa2683ee-3d38-40ad-b43c-3ae7133b4f83
DTSTAMP:20260420T121943Z
SUMMARY:USAG Yongsan-Casey Newcomers Orientation 
DESCRIPTION:USAG Yongsan-Casey Command would like to welcome all newly arri
 ved Service Members\, Family Members and DA Civilians.\n
X-ALT-DESC:FMTTYPE=text/html:<!DOCTYPE HTML PUBLIC "-//W3C//DTD HTML 3.2//E
 N"><HTML><p><strong>USAG Yongsan-Casey Command would like to welcome all n
 ewly arrived Service Members\, Family Members and DA Civilians.</strong></
 p>\n</HTML>
CREATED;TZID=Asia/Seoul:20240627T090812
URL;VALUE=URI:https://casey.armymwr.com/calendar/event
DTSTART;TZID=Asia/Seoul:20240626T090000
DTEND;TZID=Asia/Seoul:20240626T160000
SEQUENCE:0
END:VEVENT
END:VCALENDAR
