BEGIN:VCALENDAR
VERSION:2.0
PRODID:-//Sabre//Sabre VObject 4.5.8//EN
CALSCALE:GREGORIAN
BEGIN:VEVENT
UID:sabre-vobject-da7188fb-73ed-4f60-8136-f1341a590cdf
DTSTAMP:20260421T010228Z
SUMMARY:Juneteenth Movie Day
DESCRIPTION:
X-ALT-DESC:FMTTYPE=text/html:<!DOCTYPE HTML PUBLIC "-//W3C//DTD HTML 3.2//E
 N"><HTML></HTML>
CREATED;TZID=Asia/Seoul:20240604T092844
URL;VALUE=URI:https://casey.armymwr.com/calendar/event
DTSTART;TZID=Asia/Seoul:20240619T140000
DTEND;TZID=Asia/Seoul:20240619T150000
SEQUENCE:0
END:VEVENT
END:VCALENDAR
