BEGIN:VCALENDAR
VERSION:2.0
PRODID:-//Sabre//Sabre VObject 4.5.8//EN
CALSCALE:GREGORIAN
BEGIN:VEVENT
UID:sabre-vobject-60aac06b-e7a1-4d9e-8ec1-54ae0e169fd0
DTSTAMP:20260420T152106Z
SUMMARY:4th of July Independence Day Celebration
DESCRIPTION:
X-ALT-DESC:FMTTYPE=text/html:<!DOCTYPE HTML PUBLIC "-//W3C//DTD HTML 3.2//E
 N"><HTML></HTML>
CREATED;TZID=Asia/Seoul:20240702T132728
URL;VALUE=URI:https://casey.armymwr.com/calendar/event
DTSTART;TZID=Asia/Seoul:20240703T160000
DTEND;TZID=Asia/Seoul:20240703T220000
SEQUENCE:0
END:VEVENT
END:VCALENDAR
